Workbook

Sheet ODCINEK A
A1: KOSZTORYS OFERTOWY ULICA WODNA
A2: ODCINEK A
A3: Lp. | B3: Nr Spec. Technicz. | C3: Wyszczególnienie Elementów Rozliczeniowych | D3: Jednostka | E3: Ilość | F3: Cena Jedn. | G3: Wartość [zł]
A4: 1 | B4: 2 | C4: 3 | D4: 4 | E4: 5 | F4: 6 | G4: 7
A5: 1.1 | C5: ROBOTY PRZYGOTOWAWCZE
A6: 1.1.1 | B6: D.03.02.01 | C6: Regulacja pionowa studzienek dla urządzeń podziemnych, włazy kanałowe | D6: szt | E6: 9 | F6: 0 | G6: =ROUND(E6*F6,2) -> 0
A7: 1.1.2 | B7: D.01.03.03 | C7: Regulacja pionowa studzienek dla urządzeń podziemnych, studzienki telefoniczne | D7: szt | E7: 2 | F7: 0 | G7: =ROUND(E7*F7,2) -> 0
A8: 1.1.3 | B8: D.03.02.01 | C8: Regulacja pionowa studzienek dla urządzeń podziemnych, zawory wodociągowe i gazowe | D8: szt | E8: 17 | F8: 0 | G8: =ROUND(E8*F8,2) -> 0
A9: 1.1.4 | B9: D.01.02.04 | C9: Rozebranie chodników, wysepek przystankowych i przejść dla pieszych, płyty betonowe 50x50x7 cm na podsypce piaskowej(USZKODZONE WYWÓZ I UTYLIZACJA - DOBRE PRZEWÓZ W MIEJSCE WSKAZANE DO 5KM) | D9: m2 | E9: 312.5 | F9: 0 | G9: =ROUND(E9*F9,2) -> 0
A10: 1.1.5 | B10: D.01.02.04 | C10: Rozebranie krawężników, betonowych 15x30 cm na podsypce piaskowej(WYWÓZ I UTYLIZACJA) | D10: m | E10: 376 | F10: 0 | G10: =ROUND(E10*F10,2) -> 0
A11: 1.1.6 | B11: D.01.02.04 | C11: Rozebranie ław pod krawężniki, ławy z betonu(WYWÓZ I UTYLIZACJA) | D11: m3 | E11: 22.56 | F11: 0 | G11: =ROUND(E11*F11,2) -> 0
A12: 1.1.7 | B12: D.01.02.04 | C12: Rozebranie nawierzchni, z betonu, mechaniczne, grubość nawierzchni średnio 15 cm - zjazdy (WYWÓZ I UTYLIZACJA) | D12: m2 | E12: 157.5 | F12: 0 | G12: =ROUND(E12*F12,2) -> 0
A13: 1.1.8 | B13: D.01.02.04 | C13: Rozebranie nawierzchni z mieszanek mineralno-bitumicznych, grubość 8cm wraz z załadunkiem wywozem i utylizacją - chodniki | D13: m2 | E13: 312.5 | F13: 0 | G13: =ROUND(E13*F13,2) -> 0
A14: 1.1.9 | B14: D.01.02.04 | C14: Rozebranie studni wlotowych fi 500 - wraz z wywozem i utylizacją | D14: szt | E14: 2 | F14: 0 | G14: =ROUND(E14*F14,2) -> 0
A15: 1.1.10 | B15: D.03.02.01 | C15: Kompletna studnia wpustowa wpust klasy D-400 na przegubie, Fi 500 mm, z osadnikiem i wiadrem - zakup, dostawa i montaż | D15: szt | E15: 6 | F15: 0 | G15: =ROUND(E15*F15,2) -> 0
A16: 1.1.11 | B16: D.01.01.01 | C16: Wykopy oraz przekopy wykonywane koparkami podsiębiernymi na odkład, koparka 0,25 m3, grunt kategorii III - wraz z wywozem i utylizacją nadmiaru gruntu | D16: m3 | E16: 54 | F16: 0 | G16: =ROUND(E16*F16,2) -> 0
A17: 1.1.12 | B17: D.01.01.01 | C17: Zabezpieczenie istniejących kabli energetycznych, rury ochronne dwudzielne PVC, do Fi 110 mm | D17: m | E17: 30 | F17: 0 | G17: =ROUND(E17*F17,2) -> 0
... A23: 1.1.18 | B23: D.04.02.02 | C23: Podbudowa z kruszywa łamanego 0/63,0mm - warstwa dolna o grub.po zagęszcz. 20 cm - uzupełnienie podbudowy po przekopach | D23: m2 | E23: 30 | F23: 0 | G23: =ROUND(E23*F23,2) -> 0
A24: 1.2 | C24: ROBOTY DROGOWE - KRAWĘZNIKI, OBRZEŻA I OPORNIK
A25: 1.2.1 | B25: D.05.04.05 | C25: Ławy pod krawężniki, betonowa z oporem | D25: m3 | E25: 33.195 | F25: 0 | G25: =ROUND(E25*F25,2) -> 0
A26: 1.2.2 | B26: D.08.01.01 | C26: Krawężniki betonowe, wystające 15x30 cm na podsypce cementowo-piaskowej - odkrycie 6cm | D26: m | E26: 271 | F26: 0 | G26: =ROUND(E26*F26,2) -> 0
A27: 1.2.3 | B27: D.08.01.01 | C27: Krawężniki betonowe, najazdowe 15x22 cm na podsypce cementowo-piaskowej - odkrycie 4cm | D27: m | E27: 105 | F27: 0 | G27: =ROUND(E27*F27,2) -> 0
A28: 1.2.4 | B28: D.08.03.01 | C28: Obrzeża betonowe, 30x8 cm na podsypce cementowo-piaskowej z wypełnieniem spoin zaprawą cementową - wtopione | D28: m | E28: 30 | F28: 0 | G28: =ROUND(E28*F28,2) -> 0
A29: 1.3 | C29: ROBOTY DROGOWE - CHODNIKI
A30: 1.3.1 | B30: D.04.01.01 | C30: /Roboty ziemne wraz z wywozem nadmiaru gruntu z utylizacją na odległość do 5KM/ | D30: m3 | E30: 78.125 | F30: 0 | G30: =ROUND(E30*F30,2) -> 0
A31: 1.3.2 | B31: D.04.01.01 | C31: Mechaniczne profilowanie i zagęszenie podłoża pod warstwy konstrukcyjne nawierzchni w gr.kat.I-IV | D31: m2 | E31: 312.5 | F31: 0 | G31: =ROUND(E31*F31,2) -> 0
A32: 1.3.3 | B32: D.04.02.02 | C32: Podbudowa z kruszywa łamanego 0/63mm - grubość warstwy 15 cm | D32: m2 | E32: 312.5 | F32: 0 | G32: =ROUND(E32*F32,2) -> 0
A33: 1.3.4 | B33: D.04.02.02 | C33: Podbudowa z kruszywa łamanego 0/31,5mm - grubość warstwy 10 cm | D33: m2 | E33: 312.5 | F33: 0 | G33: =ROUND(E33*F33,2) -> 0
A34: 1.3.5 | B34: D.04.03.01 | C34: Oczyszczenie i skropienie nawierzchni | D34: m2 | E34: 312.5 | F34: 0 | G34: =ROUND(E34*F34,2) -> 0
A35: 1.3.6 | B35: D.05.03.05 | C35: Warstwa wiąząca beton asfaltowy 0/16 o zwiększonej odporności na deformacje trwałe-grubość warstwy 4 cm | D35: m2 | E35: 312.5 | F35: 0 | G35: =ROUND(E35*F35,2) -> 0
A36: 1.3.7 | B36: D.04.03.01 | C36: Oczyszczenie i skropienie nawierzchni | D36: m2 | E36: 312.5 | F36: 0 | G36: =ROUND(E36*F36,2) -> 0
A37: 1.3.8 | B37: D.05.03.05 | C37: Warstwa ścieralna z BA 0/12,8 o zwiększonej odpornośći na deformacje trwałe - grubość warstwy 4 cm | D37: m2 | E37: 312.5 | F37: 0 | G37: =ROUND(E37*F37,2) -> 0
A38: 1.4 | C38: ROBOTY DROGOWE - ZJAZDY
A39: 1.4.1 | B39: D.04.01.01 | C39: /Roboty ziemne wraz z wywozem nadmiaru gruntu z utylizacją na odległość do 5KM/ | D39: m3 | E39: 55.125 | F39: 0 | G39: =ROUND(E39*F39,2) -> 0
A40: 1.4.2 | B40: D.04.01.01 | C40: Mechaniczne profilowanie i zagęszenie podłoża pod warstwy konstrukcyjne nawierzchni w gr.kat.I-IV | D40: m2 | E40: 157.5 | F40: 0 | G40: =ROUND(E40*F40,2) -> 0
A41: 1.4.3 | B41: D.04.02.02 | C41: Podbudowa z kruszywa łamanego 0/63mm - grubość warstwy 20 cm | D41: m2 | E41: 157.5 | F41: 0 | G41: =ROUND(E41*F41,2) -> 0
A42: 1.4.4 | B42: D.04.02.02 | C42: Podbudowa z kruszywa łamanego 0/31,5mm - grubość warstwy 15 cm | D42: m2 | E42: 157.5 | F42: 0 | G42: =ROUND(E42*F42,2) -> 0
A43: 1.4.5 | B43: D.04.03.01 | C43: Oczyszczenie i skropienie nawierzchni | D43: m2 | E43: 157.5 | F43: 0 | G43: =ROUND(E43*F43,2) -> 0
A44: 1.4.6 | B44: D.05.03.05 | C44: Warstwa wiąząca beton asfaltowy 0/16 o zwiększonej odporności na deformacje trwałe-grubość warstwy 4 cm | D44: m2 | E44: 157.5 | F44: 0 | G44: =ROUND(E44*F44,2) -> 0
A45: 1.4.7 | B45: D.04.03.01 | C45: Oczyszczenie i skropienie nawierzchni | D45: m2 | E45: 157.5 | F45: 0 | G45: =ROUND(E45*F45,2) -> 0
A46: 1.4.8 | B46: D.05.03.05 | C46: Warstwa ścieralna z BA 0/12,8 o zwiększonej odpornośći na deformacje trwałe - grubość warstwy 4 cm | D46: m2 | E46: 157.5 | F46: 0 | G46: =ROUND(E46*F46,2) -> 0
A47: 1.5 | C47: ROBOTY NAWIERZCHNIOWE - KM 0+000,00 - 0+188 - 188 MB (szerokość 6,00 + chodnik)
A48: 1.5.1 | B48: D.05.03.11 | C48: Roboty remontowe - frezowanie nawierzchni bitumicznej o gr. średniej 6 cm z wywozem materiału z rozbiórki na odl. do 5 km | D48: m2 | E48: 1128 | F48: 0 | G48: =ROUND(E48*F48,2) -> 0
A49: 1.5.2 | B49: D.04.03.01 | C49: Oczyszczenie i skropienie nawierzchni | D49: m2 | E49: 1128 | F49: 0 | G49: =ROUND(E49*F49,2) -> 0
A50: 1.5.3 | B50: D.05.03.05 | C50: Warstwa wiąząca beton asfaltowy 0/16 o zwiększonej odporności na deformacje trwałe-grubość warstwy 4 cm | D50: m2 | E50: 1128 | F50: 0 | G50: =ROUND(E50*F50,2) -> 0
A51: 1.5.4 | B51: D.04.03.01 | C51: Oczyszczenie i skropienie nawierzchni | D51: m2 | E51: 1128 | F51: 0 | G51: =ROUND(E51*F51,2) -> 0
A52: 1.5.5 | B52: D.05.03.05 | C52: Warstwa ścieralna z BA 0/12,8 o zwiększonej odpornośći na deformacje trwałe - grubość warstwy 4 cm | D52: m2 | E52: 1128 | F52: 0 | G52: =ROUND(E52*F52,2) -> 0
A53: ŁĄCZNIE NETTO - ODCINEK A | G53: =SUM('ODCINEK A'!G6:G23)+SUM('ODCINEK A'!G25:G28)+SUM('ODCINEK A'!G30:G37)+SUM('ODCINEK A'!G39:G46)+SUM('ODCINEK A'!G48:G52) -> 0

Sheet ODCINEK B
A1: KOSZTORYS OFERTOWY ULICA WODNA
A2: ODCINEK B
A3: Lp. | B3: Nr Spec. Technicz. | C3: Wyszczególnienie Elementów Rozliczeniowych | D3: Jednostka | E3: Ilość | F3: Cena Jedn. | G3: Wartość [zł]
A4: 1 | B4: 2 | C4: 3 | D4: 4 | E4: 5 | F4: 6 | G4: 7
A5: 2.1 | C5: ROBOTY PRZYGOTOWAWCZE
A6: 2.1.1 | B6: D.03.02.01 | C6: Regulacja pionowa studzienek dla urządzeń podziemnych, włazy kanałowe | D6: szt | E6: 6 | F6: 0 | G6: =ROUND(E6*F6,2) -> 0
A7: 2.1.2 | B7: D.03.02.01 | C7: Regulacja pionowa studzienek dla urządzeń podziemnych, włazy kanałowe wraz z wymianą włazów na nowe klasy D400 na przegubie - KD | D7: szt | E7: 2 | F7: 0 | G7: =ROUND(E7*F7,2) -> 0
A8: 2.1.3 | B8: D.01.03.03 | C8: Regulacja pionowa studzienek dla urządzeń podziemnych, studzienki telefoniczne | D8: szt | E8: 5 | F8: 0 | G8: =ROUND(E8*F8,2) -> 0
A9: 2.1.4 | B9: D.03.02.01 | C9: Regulacja pionowa studzienek dla urządzeń podziemnych, zawory wodociągowe i gazowe | D9: szt | E9: 11 | F9: 0 | G9: =ROUND(E9*F9,2) -> 0
A10: 2.1.5 | B10: D.01.02.04 | C10: Rozebranie krawężników, betonowych 15x30 cm na podsypce piaskowej(WYWÓZ I UTYLIZACJA) | D10: m | E10: 108 | F10: 0 | G10: =ROUND(E10*F10,2) -> 0
A11: 2.1.6 | B11: D.01.02.04 | C11: Rozebranie ław pod krawężniki, ławy z betonu(WYWÓZ I UTYLIZACJA) | D11: m3 | E11: 22.8 | F11: 0 | G11: =ROUND(E11*F11,2) -> 0
A12: 2.1.7 | B12: D.01.02.04 | C12: Rozebranie nawierzchni, z betonu, mechaniczne, grubość nawierzchni średnio 15 cm - zjazdy (WYWÓZ I UTYLIZACJA) | D12: m2 | E12: 82.5 | F12: 0 | G12: =ROUND(E12*F12,2) -> 0
A13: 2.1.8 | B13: D.01.02.04 | C13: Rozebranie nawierzchni z mieszanek mineralno-bitumicznych, grubość 8cm wraz z załadunkiem wywozem i utylizacją - chodniki | D13: m2 | E13: 205.5 | F13: 0 | G13: =ROUND(E13*F13,2) -> 0
A14: 2.1.9 | B14: D.01.02.04 | C14: Rozebranie studni wlotowych fi 500 - wraz z wywozem i utylizacją | D14: szt | E14: 6 | F14: 0 | G14: =ROUND(E14*F14,2) -> 0
A15: 2.1.10 | B15: D.03.02.01 | C15: Kompletna studnia wpustowa wpust klasy D-400 na przegubie, Fi 500 mm, z osadnikiem i wiadrem - zakup, dostawa i montaż | D15: szt | E15: 6 | F15: 0 | G15: =ROUND(E15*F15,2) -> 0
A16: 2.1.11 | B16: D.01.01.01 | C16: Wykopy oraz przekopy wykonywane koparkami podsiębiernymi na odkład, koparka 0,25 m3, grunt kategorii III - wraz z wywozem i utylizacją nadmiaru gruntu | D16: m3 | E16: 54 | F16: 0 | G16: =ROUND(E16*F16,2) -> 0
A17: 2.1.12 | B17: D.01.01.01 | C17: Zabezpieczenie istniejących kabli energetycznych, rury ochronne dwudzielne PVC, do Fi 110 mm | D17: m | E17: 30 | F17: 0 | G17: =ROUND(E17*F17,2) -> 0
... A23: 2.1.18 | B23: D.04.02.02 | C23: Podbudowa z kruszywa łamanego 0/63,0mm - warstwa dolna o grub.po zagęszcz. 20 cm - uzupełnienie podbudowy po przekopach | D23: m2 | E23: 30 | F23: 0 | G23: =ROUND(E23*F23,2) -> 0
A24: 2.2 | C24: ROBOTY DROGOWE - KRAWĘZNIKI, OBRZEŻA I OPORNIK
A25: 2.2.1 | B25: D.05.04.05 | C25: Ławy pod krawężniki, betonowa z oporem | D25: m3 | E25: 32.775 | F25: 0 | G25: =ROUND(E25*F25,2) -> 0
A26: 2.2.2 | B26: D.08.01.01 | C26: Krawężniki betonowe, wystające 15x30 cm na podsypce cementowo-piaskowej - odkrycie 6cm | D26: m | E26: 325 | F26: 0 | G26: =ROUND(E26*F26,2) -> 0
A27: 2.2.3 | B27: D.08.01.01 | C27: Krawężniki betonowe, najazdowe 15x22 cm na podsypce cementowo-piaskowej - odkrycie 4cm | D27: m | E27: 55 | F27: 0 | G27: =ROUND(E27*F27,2) -> 0
A28: 2.2.4 | B28: D.08.03.01 | C28: Obrzeża betonowe, 30x8 cm na podsypce cementowo-piaskowej z wypełnieniem spoin zaprawą cementową - wtopione | D28: m | E28: 30 | F28: 0 | G28: =ROUND(E28*F28,2) -> 0
A29: 2.3 | C29: ROBOTY DROGOWE - CHODNIKI
A30: 2.3.1 | B30: D.04.01.01 | C30: /Roboty ziemne wraz z wywozem nadmiaru gruntu z utylizacją na odległość do 5KM/ | D30: m3 | E30: 51.375 | F30: 0 | G30: =ROUND(E30*F30,2) -> 0
A31: 2.3.2 | B31: D.04.01.01 | C31: Mechaniczne profilowanie i zagęszenie podłoża pod warstwy konstrukcyjne nawierzchni w gr.kat.I-IV | D31: m2 | E31: 205.5 | F31: 0 | G31: =ROUND(E31*F31,2) -> 0
A32: 2.3.3 | B32: D.04.02.02 | C32: Podbudowa z kruszywa łamanego 0/63mm - grubość warstwy 15 cm | D32: m2 | E32: 205.5 | F32: 0 | G32: =ROUND(E32*F32,2) -> 0
A33: 2.3.4 | B33: D.04.02.02 | C33: Podbudowa z kruszywa łamanego 0/31,5mm - grubość warstwy 10 cm | D33: m2 | E33: 205.5 | F33: 0 | G33: =ROUND(E33*F33,2) -> 0
A34: 2.3.5 | B34: D.04.03.01 | C34: Oczyszczenie i skropienie nawierzchni | D34: m2 | E34: 205.5 | F34: 0 | G34: =ROUND(E34*F34,2) -> 0
A35: 2.3.6 | B35: D.05.03.05 | C35: Warstwa wiąząca beton asfaltowy 0/16 o zwiększonej odporności na deformacje trwałe-grubość warstwy 4 cm | D35: m2 | E35: 205.5 | F35: 0 | G35: =ROUND(E35*F35,2) -> 0
A36: 2.3.7 | B36: D.04.03.01 | C36: Oczyszczenie i skropienie nawierzchni | D36: m2 | E36: 205.5 | F36: 0 | G36: =ROUND(E36*F36,2) -> 0
A37: 2.3.8 | B37: D.05.03.05 | C37: Warstwa ścieralna z BA 0/12,8 o zwiększonej odpornośći na deformacje trwałe - grubość warstwy 4 cm | D37: m2 | E37: 205.5 | F37: 0 | G37: =ROUND(E37*F37,2) -> 0
A38: 2.4 | C38: ROBOTY DROGOWE - ZJAZDY
A39: 2.4.1 | B39: D.04.01.01 | C39: /Roboty ziemne wraz z wywozem nadmiaru gruntu z utylizacją na odległość do 5KM/ | D39: m3 | E39: 28.875 | F39: 0 | G39: =ROUND(E39*F39,2) -> 0
A40: 2.4.2 | B40: D.04.01.01 | C40: Mechaniczne profilowanie i zagęszenie podłoża pod warstwy konstrukcyjne nawierzchni w gr.kat.I-IV | D40: m2 | E40: 82.5 | F40: 0 | G40: =ROUND(E40*F40,2) -> 0
A41: 2.4.3 | B41: D.04.02.02 | C41: Podbudowa z kruszywa łamanego 0/63mm - grubość warstwy 20 cm | D41: m2 | E41: 82.5 | F41: 0 | G41: =ROUND(E41*F41,2) -> 0
A42: 2.4.4 | B42: D.04.02.02 | C42: Podbudowa z kruszywa łamanego 0/31,5mm - grubość warstwy 15 cm | D42: m2 | E42: 82.5 | F42: 0 | G42: =ROUND(E42*F42,2) -> 0
A43: 2.4.5 | B43: D.04.03.01 | C43: Oczyszczenie i skropienie nawierzchni | D43: m2 | E43: 82.5 | F43: 0 | G43: =ROUND(E43*F43,2) -> 0
A44: 2.4.6 | B44: D.05.03.05 | C44: Warstwa wiąząca beton asfaltowy 0/16 o zwiększonej odporności na deformacje trwałe-grubość warstwy 4 cm | D44: m2 | E44: 82.5 | F44: 0 | G44: =ROUND(E44*F44,2) -> 0
A45: 2.4.7 | B45: D.04.03.01 | C45: Oczyszczenie i skropienie nawierzchni | D45: m2 | E45: 82.5 | F45: 0 | G45: =ROUND(E45*F45,2) -> 0
A46: 2.4.8 | B46: D.05.03.05 | C46: Warstwa ścieralna z BA 0/12,8 o zwiększonej odpornośći na deformacje trwałe - grubość warstwy 4 cm | D46: m2 | E46: 82.5 | F46: 0 | G46: =ROUND(E46*F46,2) -> 0
A47: 2.5 | C47: ROBOTY NAWIERZCHNIOWE - KM 0+000,00 - 0+190 - 190 MB (szerokość 3,5 - 6,00 + chodnik lub pobocza)
A48: 2.5.1 | B48: D.05.03.11 | C48: Roboty remontowe - frezowanie nawierzchni bitumicznej o gr. średniej 6 cm z wywozem materiału z rozbiórki na odl. do 5 km | D48: m2 | E48: 902 | F48: 0 | G48: =ROUND(E48*F48,2) -> 0
A49: 2.5.2 | B49: D.04.03.01 | C49: Oczyszczenie i skropienie nawierzchni | D49: m2 | E49: 902 | F49: 0 | G49: =ROUND(E49*F49,2) -> 0
A50: 2.5.3 | B50: D.05.03.05 | C50: Warstwa wiąząca beton asfaltowy 0/16 o zwiększonej odporności na deformacje trwałe-grubość warstwy 4 cm | D50: m2 | E50: 902 | F50: 0 | G50: =ROUND(E50*F50,2) -> 0
A51: 2.5.4 | B51: D.04.03.01 | C51: Oczyszczenie i skropienie nawierzchni | D51: m2 | E51: 902 | F51: 0 | G51: =ROUND(E51*F51,2) -> 0
A52: 2.5.5 | B52: D.05.03.05 | C52: Warstwa ścieralna z BA 0/12,8 o zwiększonej odpornośći na deformacje trwałe - grubość warstwy 4 cm | D52: m2 | E52: 902 | F52: 0 | G52: =ROUND(E52*F52,2) -> 0
A53: 2.5.6 | B53: D.04.04.02 | C53: Wyrównanie istniejącej podbudowy tłuczniem, zagęszczenie mechaniczne - Pobocza obustronne (ANALOGIA) | D53: m3 | E53: 49.72 | F53: 0 | G53: =ROUND(E53*F53,2) -> 0
A54: ŁĄCZNIE NETTO - ODCINEK B | G54: =SUM('ODCINEK B'!G6:G23)+SUM('ODCINEK B'!G25:G28)+SUM('ODCINEK B'!G30:G37)+SUM('ODCINEK B'!G39:G46)+SUM('ODCINEK B'!G48:G53) -> 0

Sheet ODCINEK C
A1: KOSZTORYS OFERTOWY ULICA WODNA
A2: ODCINEK C
A3: Lp. | B3: Nr Spec. Technicz. | C3: Wyszczególnienie Elementów Rozliczeniowych | D3: Jednostka | E3: Ilość | F3: Cena Jedn. | G3: Wartość [zł]
A4: 1 | B4: 2 | C4: 3 | D4: 4 | E4: 5 | F4: 6 | G4: 7
A5: 3.1 | C5: ROBOTY PRZYGOTOWAWCZE
A6: 3.1.1 | B6: D.03.02.01 | C6: Regulacja pionowa studzienek dla urządzeń podziemnych, włazy kanałowe | D6: szt | E6: 4 | F6: 0 | G6: =ROUND(E6*F6,2) -> 0
A7: 3.1.2 | B7: D.01.03.03 | C7: Regulacja pionowa studzienek dla urządzeń podziemnych, studzienki telefoniczne | D7: szt | E7: 2 | F7: 0 | G7: =ROUND(E7*F7,2) -> 0
A8: 3.1.3 | B8: D.03.02.01 | C8: Regulacja pionowa studzienek dla urządzeń podziemnych, zawory wodociągowe i gazowe | D8: szt | E8: 1 | F8: 0 | G8: =ROUND(E8*F8,2) -> 0
A9: 3.2 | C9: ROBOTY NAWIERZCHNIOWE KM 0+000,00 - 0+166,00 - 166 MB (szerokość 3,00 + pobocza)
A10: 3.2.1 | B10: D.04.01.01 | C10: Mechaniczne profilowanie i zagęszenie podłoża pod warstwy konstrukcyjne nawierzchni w gr.kat.I-IV | D10: m2 | E10: 694 | F10: 0 | G10: =ROUND(E10*F10,2) -> 0
A11: 3.2.2 | B11: D.04.04.02 | C11: Wyrównanie z kruszywa łamanego 0/31,5mm stabilizowana mechanicznie grubość po zagęszczeniu średnio 10cm (ANALOGIA) | D11: m3 | E11: 69.4 | F11: 0 | G11: =ROUND(E11*F11,2) -> 0
A12: 3.2.3 | B12: D.04.03.01 | C12: Oczyszczenie i skropienie nawierzchni | D12: m2 | E12: 528 | F12: 0 | G12: =ROUND(E12*F12,2) -> 0
A13: 3.2.4 | B13: D.05.03.05 | C13: Warstwa wiąząca beton asfaltowy 0/16 o zwiększonej odporności na deformacje trwałe-grubość warstwy 4 cm | D13: m2 | E13: 528 | F13: 0 | G13: =ROUND(E13*F13,2) -> 0
A14: 3.2.5 | B14: D.04.03.01 | C14: Oczyszczenie i skropienie nawierzchni | D14: m2 | E14: 528 | F14: 0 | G14: =ROUND(E14*F14,2) -> 0
A15: 3.2.6 | B15: D.05.03.05 | C15: Warstwa ścieralna z BA 0/12,8 o zwiększonej odpornośći na deformacje trwałe - grubość warstwy 4 cm | D15: m2 | E15: 528 | F15: 0 | G15: =ROUND(E15*F15,2) -> 0
A16: 3.2.7 | B16: D.04.04.02 | C16: Wyrównanie istniejącej podbudowy tłuczniem, zagęszczenie mechaniczne - Pobocza obustronne (ANALOGIA) | D16: m3 | E16: 25.12 | F16: 0 | G16: =ROUND(E16*F16,2) -> 0
A17: ŁĄCZNIENETTO - ODCINEK C | G17: =SUM('ODCINEK C'!G6:G8)+SUM('ODCINEK C'!G10:G16) -> 0

Sheet ZBIORCZE ZESTAWIENIE KOSZTÓW
A2: Nazwa elementu | E2: Wartość [zł]
A3: ODCINEK A | E3: =SUM('ODCINEK A'!G6:G23)+SUM('ODCINEK A'!G25:G28)+SUM('ODCINEK A'!G30:G37)+SUM('ODCINEK A'!G39:G46)+SUM('ODCINEK A'!G48:G52) -> 0
A4: ROBOTY PRZYGOTOWAWCZE | E4: =SUM('ODCINEK A'!G6:G23) -> 0
A5: ROBOTY DROGOWE - KRAWĘZNIKI, OBRZEŻA I OPORNIK | E5: =SUM('ODCINEK A'!G25:G28) -> 0
A6: ROBOTY DROGOWE - CHODNIKI | E6: =SUM('ODCINEK A'!G30:G37) -> 0
A7: ROBOTY DROGOWE - ZJAZDY | E7: =SUM('ODCINEK A'!G39:G46) -> 0
A8: ROBOTY NAWIERZCHNIOWE - KM 0+000,00 - 0+188 - 188 MB (szerokość 6,00 + chodnik) | E8: =SUM('ODCINEK A'!G48:G52) -> 0
A9: ODCINEK B | E9: =SUM('ODCINEK B'!G6:G23)+SUM('ODCINEK B'!G25:G28)+SUM('ODCINEK B'!G30:G37)+SUM('ODCINEK B'!G39:G46)+SUM('ODCINEK B'!G48:G53) -> 0
A10: ROBOTY PRZYGOTOWAWCZE | E10: =SUM('ODCINEK B'!G6:G23) -> 0
A11: ROBOTY DROGOWE - KRAWĘZNIKI, OBRZEŻA I OPORNIK | E11: =SUM('ODCINEK B'!G25:G28) -> 0
A12: ROBOTY DROGOWE - CHODNIKI | E12: =SUM('ODCINEK B'!G30:G37) -> 0
A13: ROBOTY DROGOWE - ZJAZDY | E13: =SUM('ODCINEK B'!G39:G46) -> 0
A14: ROBOTY NAWIERZCHNIOWE - KM 0+000,00 - 0+190 - 190 MB (szerokość 3,5 - 6,00 + chodnik lub pobocza) | E14: =SUM('ODCINEK B'!G48:G53) -> 0
A15: ODCINEK C | E15: =SUM('ODCINEK C'!G6:G8)+SUM('ODCINEK C'!G10:G16) -> 0
A16: ROBOTY PRZYGOTOWAWCZE | E16: =SUM('ODCINEK C'!G6:G8) -> 0
A17: ROBOTY NAWIERZCHNIOWE KM 0+000,00 - 0+166,00 - 166 MB (szerokość 3,00 + pobocza) | E17: =SUM('ODCINEK C'!G10:G16) -> 0
A18: Razem NETTO | E18: =SUM('ODCINEK A'!G6:G23)+SUM('ODCINEK A'!G25:G28)+SUM('ODCINEK A'!G30:G37)+SUM('ODCINEK A'!G39:G46)+SUM('ODCINEK A'!G48:G52)+SUM('ODCINEK B'!G6:G23)+SUM('ODCINEK B'!G25:G28)+SUM('ODCINEK B'!G30:G37)+SUM('ODCINEK B'!G39:G46)+SUM('ODCINEK B'!G48:G53)+SUM('ODCINEK C'!G6:G8)+SUM('ODCINEK C'!G10:G16) -> 0
