Workbook

Sheet 1 Remont ul. Słonecznikowej w Ż
A1: KOSZTORYS OFERTOWY
A2: Remont ul. Słonecznikowej w Żywcu - etap II i III
A3: Lp. | B3: Nr Spec. Technicz. | C3: Wyszczególnienie Elementów Rozliczeniowych | D3: Jednostka | E3: Ilość | F3: Cena Jedn. | G3: Wartość [zł]
A4: 1 | B4: 2 | C4: 3 | D4: 4 | E4: 5 | F4: 6 | G4: 7
A5: 1 | B5: D.01.00.00/D.01.02.04 | C5: Roboty początkowe
A6: 1.1 | B6: D.01.01.01 | C6: Roboty pomiarowe przy liniowych robotach ziemnych, trasa dróg w terenie równinnym wraz z inwetaryzacją powykonawczą | D6: kpl. | E6: 1 | F6: 0 | G6: =ROUND(E6*F6,2) -> 0
A7: RAZEM Roboty początkowe | G7: =SUM('1 Remont ul. Słonecznikowej w Ż'!G6:G6) -> 0
A8: 2 | B8: D.01.00.00 | C8: Roboty przygotowawcze
A9: 2.1 | B9: D.01.03.01 | C9: Regulacja pionowa studzienek dla urządzeń podziemnych, zawory wodociągowe i gazowe (wymiana skrzynek na nowe) | D9: szt | E9: 5 | F9: 0 | G9: =ROUND(E9*F9,2) -> 0
A10: 2.2 | B10: D.01.03.01 | C10: Regulacja pionowa studzienek dla urządzeń podziemnych, włazy kanałowe i ściekowe | D10: szt | E10: 12 | F10: 0 | G10: =ROUND(E10*F10,2) -> 0
A11: 2.3 | B11: D.01.02.04 | C11: Rozbiórka odwodnienie liniowego z z elementów prefabrykowanych wraz z odwozem i utylizacją materiału z rozbiórki. Odwóz, składowanie i utylizacja materiału na koszt i wg uznania Wykonawcy. | D11: m | E11: 9 | F11: 0 | G11: =ROUND(E11*F11,2) -> 0
A12: 2.4 | B12: D.01.02.04 | C12: Rozebranie przepustów wraz ze ściankami czołowymi - wraz z załadunkiem, składowaniem i dowozem. Odwóz, składowanie i utylizacja materiału na koszt i wg uznania Wykonawcy. | D12: m | E12: 8.5 | F12: 0 | G12: =ROUND(E12*F12,2) -> 0
A13: RAZEM Roboty przygotowawcze | G13: =SUM('1 Remont ul. Słonecznikowej w Ż'!G9:G12) -> 0
A14: 3 | B14: D.02.00.00 | C14: Roboty ziemne
A15: 3.1 | B15: D.02.01.01 | C15: Wykopy wykonywane koparkami, z transportem urobku samochodami samowyładowczymi - korytowanie. Odwóz, składowanie i utylizacja nadmiaru materiału na koszt i wg uznania Wykonawcy | D15: m3 | E15: 591 | F15: 0 | G15: =ROUND(E15*F15,2) -> 0
A16: 3.2 | B16: D.03.01.03 | C16: Udrożnienie przepustów pod drgoami i zjazdami | D16: m | E16: 10.5 | F16: 0 | G16: =ROUND(E16*F16,2) -> 0
A17: RAZEM Roboty ziemne | G17: =SUM('1 Remont ul. Słonecznikowej w Ż'!G15:G16) -> 0
A18: 4 | B18: D.04.00.00 | C18: Podbudowy
A19: 4.1 | B19: D.04.03.01 | C19: Oczyszczenie i skropienie nawierzchni drogowych | D19: m2 | E19: 1903.65 | F19: 0 | G19: =ROUND(E19*F19,2) -> 0
A20: 4.2 | B20: D.04.01.01 | C20: Profilowanie i zagęszczanie podłoża pod warstwy konstrukcyjne nawierzchni, wykonywane mechanicznie, | D20: m2 | E20: 1040.55 | F20: 0 | G20: =ROUND(E20*F20,2) -> 0
A21: 4.3 | B21: D.04.04.02a | C21: Uzupełnienie nawierzchni, mieszanka niezwiązana z kruszywem C90/3 frakcji 0/31,5mm gr. śr. 10cm - zjazdy | D21: m2 | E21: 29 | F21: 0 | G21: =ROUND(E21*F21,2) -> 0
A22: 4.4 | B22: D.04.04.02a | C22: Podbudowa zasadnicza z mieszanki nie związanej z kruszywa łamanego C90/3 gr. 15·cm | D22: m2 | E22: 1040.55 | F22: 0 | G22: =ROUND(E22*F22,2) -> 0
A23: 4.5 | B23: D.04.04.02a | C23: Podbudowa pomocnicza z mieszanki nie związanej z kruszywa łamanego C90/3 gr. 20·cm | D23: m2 | E23: 1040.55 | F23: 0 | G23: =ROUND(E23*F23,2) -> 0
A24: RAZEM Podbudowy | G24: =SUM('1 Remont ul. Słonecznikowej w Ż'!G19:G23) -> 0
A25: 5 | B25: D.03.00.00 | C25: Odwodnienie
A26: 5.1 | B26: D.08.06.01 | C26: Ścieki z elementów polimerobetonowych wraz z rusztem żeliwnym klasy D400 ( wraz ze studzienkami systemowymi) | D26: m | E26: 9.5 | F26: 0 | G26: =ROUND(E26*F26,2) -> 0
A27: 5.2 | B27: D.08.05.01 | C27: Ściek prefabrykowany na ławie z betonu C16/20 | D27: m | E27: 133.5 | F27: 0 | G27: =ROUND(E27*F27,2) -> 0
A28: RAZEM Odwodnienie | G28: =SUM('1 Remont ul. Słonecznikowej w Ż'!G26:G27) -> 0
A29: 6 | B29: D.05.00.00. | C29: Nawierzchnie
A30: 6.1 | B30: D.05.03.05.b | C30: Nawierzchnie z mieszanek mineralno-bitumicznych (warstwa wiążąca), mieszanka asfaltowa, grubość po zagęszczeniu 7·cm, | D30: m2 | E30: 880.36 | F30: 0 | G30: =ROUND(E30*F30,2) -> 0
A31: 6.2 | B31: D.05.03.05a | C31: Nawierzchnie z AC11S (warstwa ścieralna), grubość po zagęszczeniu 5·cm, | D31: m2 | E31: 863.1 | F31: 0 | G31: =ROUND(E31*F31,2) -> 0
A32: 6.3 | B32: D.04.04.02a | C32: Nawierzchnia z mieszanki nie związanej z kruszywa łamanego C90/3 gr. 20·cm - pobocza | D32: m2 | E32: 104 | F32: 0 | G32: =ROUND(E32*F32,2) -> 0
A33: 6.4 | B33: D.10.03.01a | C33: Nawierzchnia z betonowych płyt JOMB 100x75x12,5cm, ułożone na betonie C12/15 gr min 7cm - (otwory w płycie owalne) - podwójnie zbrojone. co drugi rząd płyt na spadkach większych niż 6% należy kotwić prętami stalowymi (4 pręty fi 16mm na płytę) | D33: m2 | E33: 169 | F33: 0 | G33: =ROUND(E33*F33,2) -> 0
A34: RAZEM Nawierzchnie | G34: =SUM('1 Remont ul. Słonecznikowej w Ż'!G30:G33) -> 0
A35: 7 | C35: Roboty wykończeniowe
A36: 7.1 | B36: D.06.01.01 | C36: Humusowanie i obsianie , humus grubości 15·cm | D36: m2 | E36: 432 | F36: 0 | G36: =ROUND(E36*F36,2) -> 0
A37: 7.2 | B37: D.06.01.01 | C37: Umocnienie skarp płytami ażurowymi 60x40x8cm na podsypce cementowo-piaskowej gr 10cm | D37: m2 | E37: 66 | F37: 0 | G37: =ROUND(E37*F37,2) -> 0
A38: RAZEM Roboty wykończeniowe | G38: =SUM('1 Remont ul. Słonecznikowej w Ż'!G36:G37) -> 0
A39: ŁĄCZNIE Remont ul. Słonecznikowej w Żywcu - etap II i III (netto) | G39: ='1 Remont ul. Słonecznikowej w Ż'!G7+'1 Remont ul. Słonecznikowej w Ż'!G13+'1 Remont ul. Słonecznikowej w Ż'!G17+'1 Remont ul. Słonecznikowej w Ż'!G24+'1 Remont ul. Słonecznikowej w Ż'!G28+'1 Remont ul. Słonecznikowej w Ż'!G34+'1 Remont ul. Słonecznikowej w Ż'!G38 -> 0
